BEGIN:VCALENDAR
VERSION:2.0
PRODID:-//Tukios.com/
BEGIN:VEVENT
UID:85ddf786-aebe-48e2-9509-be578599f6e7@www.lindleyfuneralhomes.com
DTSTAMP:20260421T002510Z
DTSTART:20260423T170000Z
DTEND:20260423T213000Z
SUMMARY:In-State
DESCRIPTION:
URL:https://www.lindleyfuneralhomes.com/obituaries/retha-emerich
LOCATION:Lindley Funeral Home - Chillicothe 910 Washington Street  
	Chillicothe MO 64601
GEO:39.7962116;-93.5541583
END:VEVENT
END:VCALENDAR