BEGIN:VCALENDAR
VERSION:2.0
PRODID:-//Tukios.com/
BEGIN:VEVENT
UID:568452b6-3210-400a-955f-b213d98c8060@www.lindleyfuneralhomes.com
DTSTAMP:20260421T003124Z
DTSTART:20260424T193000Z
DTEND:20260424T203000Z
SUMMARY:Graveside Service
DESCRIPTION:
URL:https://www.lindleyfuneralhomes.com/obituaries/retha-emerich
LOCATION:Edgewood Cemetery  Edgewood Drive  Chillicothe MO 64601
GEO:39.7981506;-93.5637461
END:VEVENT
END:VCALENDAR