BEGIN:VCALENDAR
VERSION:2.0
PRODID:-//Tukios.com/
BEGIN:VEVENT
UID:8c5b5a40-e864-4292-a371-c29e36ca8889@www.lindleyfuneralhomes.com
DTSTAMP:20260421T002657Z
DTSTART:20260424T180000Z
DTEND:20260424T190000Z
SUMMARY:Visitation
DESCRIPTION:
URL:https://www.lindleyfuneralhomes.com/obituaries/retha-emerich
LOCATION:Lindley Funeral Home - Chillicothe 910 Washington Street  
	Chillicothe MO 64601
GEO:39.7962116;-93.5541583
END:VEVENT
END:VCALENDAR